BEGIN:VCALENDAR
VERSION:2.0
PRODID:-//eventon.com NONSGML v1.0//EN
BEGIN:VEVENT
UID:69e4cfb53b8ad
DTSTAMP:20260419T085101
DTSTART:000000T000000Z
DTEND:007200T000000Z
TZID:America/New_York
LOCATION:Tucker Brewing Company 2003 S Bibb Dr 
SUMMARY:Wednesday Trivia Nights at Tucker Brewing
DESCRIPTION: Put your knowledge to the test at Trivia Night\,  where teams will compete on a wide range of topics while enjoying local brews.
URL:https://bestselfatlanta.com/events/wednesday-trivia-nights-at-tucker-brewing/
END:VEVENT
END:VCALENDAR