BEGIN:VCALENDAR
VERSION:2.0
PRODID:-//eventon.com NONSGML v1.0//EN
BEGIN:VEVENT
UID:69e73510c21ea
DTSTAMP:20260421T042800
DTSTART:000000T000000Z
DTEND:000000T000000Z
TZID:Pacific/Midway
LOCATION:Zoo Atlanta 800 Cherokee Ave SE
SUMMARY:Run Like Wild 5K
DESCRIPTION: Catch a glimpse of the amazing wildlife as you race through this family-friendly 5K. All proceeds will help Zoo Atlanta’s conservation and research programs. Register by April 19.
URL:https://bestselfatlanta.com/events/run-like-wild-5k/
END:VEVENT
END:VCALENDAR